BEGIN:VCALENDAR
PRODID:NingEventWidget-v1
VERSION:2.0
METHOD:PUBLISH
BEGIN:VEVENT
UID:2667446:Event:119889
DTSTAMP:20260422T192206Z
SUMMARY:The Midlands Banjo Festival
DESCRIPTION:A Rally for enthusiasts of all styles of Banjo playing.\nC
 lassic style is always well represented.\n\n\nPlenty of instruments to
  see and play, people to meet and great music to hear in the afternoon
  concert.\nNumerous trade stands and private instrument sales.\n\nFor 
 more information visit https://classic-banjo.ning.com/events/the-midla
 nds-banjo-festival
DTSTART:20171014T000000Z
DTEND:20171014T190000Z
CATEGORIES:banjo, rally, for, all, styles
LOCATION:The Hilton House Hotel
WEBSITE:
URL:
CONTACT:David Wade 07976 875619 or Keith Wilson 01132 588243
ORGANIZER:David and Keith
ATTACH;FMTTYPE="image/jpeg":
ATTENDEE;ROLE=REQ-PARTICIPANT;PARTSTAT=ACCEPTED;RSVP=TRUE;CN="Daniel B
 radbury":https://classic-banjo.ning.com/profile/DanielBradbury
ATTENDEE;ROLE=REQ-PARTICIPANT;PARTSTAT=ACCEPTED;RSVP=TRUE;CN=thereally
 niceman:https://classic-banjo.ning.com/profile/thereallyniceman
END:VEVENT
END:VCALENDAR
